Package: biodbChebi Version: 1.14.0 Command: /Library/Frameworks/R.framework/Resources/bin/R CMD INSTALL biodbChebi StartedAt: 2025-10-13 15:20:06 -0400 (Mon, 13 Oct 2025) EndedAt: 2025-10-13 15:20:34 -0400 (Mon, 13 Oct 2025) EllapsedTime: 27.1 seconds RetCode: 0 Status: OK