Package: biodbChebi Version: 1.14.0 Command: rm -rf biodbChebi.buildbin-libdir && mkdir biodbChebi.buildbin-libdir && /Users/biocbuild/BBS/utils/build-universal.sh biodbChebi_1.14.0.tar.gz /Library/Frameworks/R.framework/Resources/bin/R biodbChebi.buildbin-libdir StartedAt: 2025-09-09 12:34:26 -0400 (Tue, 09 Sep 2025) EndedAt: 2025-09-09 12:34:44 -0400 (Tue, 09 Sep 2025) EllapsedTime: 18.0 seconds RetCode: 0 Status: OK PackageFile: biodbChebi_1.14.0.tgz PackageFileSize: 404.1 KiB