Package: biodbChebi Version: 1.14.0 Command: /Library/Frameworks/R.framework/Resources/bin/R CMD check --install=check:biodbChebi.install-out.txt --library=/Library/Frameworks/R.framework/Resources/library --no-vignettes --timings biodbChebi_1.14.0.tar.gz StartedAt: 2025-04-21 19:21:08 -0400 (Mon, 21 Apr 2025) EndedAt: 2025-04-21 19:23:59 -0400 (Mon, 21 Apr 2025) EllapsedTime: 170.6 seconds RetCode: 0 Status: OK CheckDir: biodbChebi.Rcheck Warnings: 0