Package: biodbChebi Version: 1.14.0 Command: /home/biocbuild/R/R/bin/R CMD check --install=check:biodbChebi.install-out.txt --library=/home/biocbuild/R/R/site-library --no-vignettes --timings biodbChebi_1.14.0.tar.gz StartedAt: 2025-08-29 06:54:53 -0000 (Fri, 29 Aug 2025) EndedAt: 2025-08-29 06:56:47 -0000 (Fri, 29 Aug 2025) EllapsedTime: 114.1 seconds RetCode: 0 Status: OK CheckDir: biodbChebi.Rcheck Warnings: 0