Package: biodbChebi Version: 1.14.0 Command: /Library/Frameworks/R.framework/Resources/bin/R CMD check --install=check:biodbChebi.install-out.txt --library=/Library/Frameworks/R.framework/Resources/library --no-vignettes --timings biodbChebi_1.14.0.tar.gz StartedAt: 2025-09-09 13:52:36 -0400 (Tue, 09 Sep 2025) EndedAt: 2025-09-09 13:55:00 -0400 (Tue, 09 Sep 2025) EllapsedTime: 143.7 seconds RetCode: 0 Status: OK CheckDir: biodbChebi.Rcheck Warnings: 0