Package: biodbChebi Version: 1.14.0 Command: /Library/Frameworks/R.framework/Resources/bin/R CMD build --keep-empty-dirs --no-resave-data biodbChebi StartedAt: 2025-10-13 20:04:06 -0400 (Mon, 13 Oct 2025) EndedAt: 2025-10-13 20:04:22 -0400 (Mon, 13 Oct 2025) EllapsedTime: 15.9 seconds RetCode: 1 Status: ERROR PackageFile: None PackageFileSize: NA