Package: biodb Version: 1.16.1 Command: /home/biocbuild/R/R/bin/R CMD INSTALL biodb StartedAt: 2025-10-13 20:21:34 -0000 (Mon, 13 Oct 2025) EndedAt: 2025-10-13 20:22:51 -0000 (Mon, 13 Oct 2025) EllapsedTime: 76.6 seconds RetCode: 0 Status: OK