Package: biobroom Version: 1.40.0 Command: /home/biocbuild/bbs-3.21-bioc/R/bin/R CMD check --install=check:biobroom.install-out.txt --library=/home/biocbuild/bbs-3.21-bioc/R/site-library --timings biobroom_1.40.0.tar.gz StartedAt: 2025-10-15 21:09:55 -0400 (Wed, 15 Oct 2025) EndedAt: 2025-10-15 21:11:59 -0400 (Wed, 15 Oct 2025) EllapsedTime: 124.5 seconds RetCode: 0 Status: WARNINGS CheckDir: biobroom.Rcheck Warnings: 1