Package: biobroom Version: 1.40.0 Command: /home/biocbuild/R/R/bin/R CMD INSTALL biobroom StartedAt: 2025-10-13 20:24:44 -0000 (Mon, 13 Oct 2025) EndedAt: 2025-10-13 20:24:51 -0000 (Mon, 13 Oct 2025) EllapsedTime: 6.8 seconds RetCode: 0 Status: OK