Package: biobroom Version: 1.40.0 Command: /home/biocbuild/R/R/bin/R CMD build --keep-empty-dirs --no-resave-data biobroom StartedAt: 2025-10-13 23:04:58 -0000 (Mon, 13 Oct 2025) EndedAt: 2025-10-13 23:06:08 -0000 (Mon, 13 Oct 2025) EllapsedTime: 70.0 seconds RetCode: 0 Status: OK PackageFile: biobroom_1.40.0.tar.gz PackageFileSize: 506.3 KiB