Package: biobroom Version: 1.40.0 Command: rm -rf biobroom.buildbin-libdir && mkdir biobroom.buildbin-libdir && /Users/biocbuild/BBS/utils/build-universal.sh biobroom_1.40.0.tar.gz /Library/Frameworks/R.framework/Resources/bin/R biobroom.buildbin-libdir StartedAt: 2025-04-21 22:27:29 -0400 (Mon, 21 Apr 2025) EndedAt: 2025-04-21 22:27:33 -0400 (Mon, 21 Apr 2025) EllapsedTime: 3.1 seconds RetCode: 0 Status: OK PackageFile: biobroom_1.40.0.tgz PackageFileSize: 815.5 KiB