Package: bioassayR Version: 1.46.0 Command: E:\biocbuild\bbs-3.21-bioc\R\bin\R.exe CMD INSTALL bioassayR StartedAt: 2025-08-14 15:38:18 -0400 (Thu, 14 Aug 2025) EndedAt: 2025-08-14 15:39:31 -0400 (Thu, 14 Aug 2025) EllapsedTime: 73.0 seconds RetCode: 0 Status: OK