Package: bioassayR Version: 1.46.0 Command: /home/biocbuild/R/R/bin/R CMD check --install=check:bioassayR.install-out.txt --library=/home/biocbuild/R/R/site-library --no-vignettes --timings bioassayR_1.46.0.tar.gz StartedAt: 2025-10-14 06:38:11 -0000 (Tue, 14 Oct 2025) EndedAt: 2025-10-14 06:40:07 -0000 (Tue, 14 Oct 2025) EllapsedTime: 116.1 seconds RetCode: 0 Status: OK CheckDir: bioassayR.Rcheck Warnings: 0