Package: bioassayR Version: 1.46.0 Command: /Library/Frameworks/R.framework/Resources/bin/R CMD check --install=check:bioassayR.install-out.txt --library=/Library/Frameworks/R.framework/Resources/library --no-vignettes --timings bioassayR_1.46.0.tar.gz StartedAt: 2025-04-21 18:19:16 -0400 (Mon, 21 Apr 2025) EndedAt: 2025-04-21 18:19:51 -0400 (Mon, 21 Apr 2025) EllapsedTime: 35.4 seconds RetCode: 1 Status: ERROR CheckDir: bioassayR.Rcheck Warnings: NA