Package: bioassayR Version: 1.46.0 Command: /Library/Frameworks/R.framework/Resources/bin/R CMD check --install=check:bioassayR.install-out.txt --library=/Library/Frameworks/R.framework/Resources/library --no-vignettes --timings bioassayR_1.46.0.tar.gz StartedAt: 2025-10-14 14:06:30 -0400 (Tue, 14 Oct 2025) EndedAt: 2025-10-14 14:08:13 -0400 (Tue, 14 Oct 2025) EllapsedTime: 103.5 seconds RetCode: 1 Status: ERROR CheckDir: bioassayR.Rcheck Warnings: NA