Package: bioassayR Version: 1.46.0 Command: rm -rf bioassayR.buildbin-libdir && mkdir bioassayR.buildbin-libdir && /Users/biocbuild/BBS/utils/build-universal.sh bioassayR_1.46.0.tar.gz /Library/Frameworks/R.framework/Resources/bin/R bioassayR.buildbin-libdir StartedAt: 2025-10-15 17:35:05 -0400 (Wed, 15 Oct 2025) EndedAt: 2025-10-15 17:35:23 -0400 (Wed, 15 Oct 2025) EllapsedTime: 18.0 seconds RetCode: 0 Status: OK PackageFile: bioassayR_1.46.0.tgz PackageFileSize: 1.036 MiB