Package: bioDist Version: 1.80.0 Command: /home/biocbuild/bbs-3.21-bioc/R/bin/R CMD INSTALL bioDist StartedAt: 2025-10-15 15:12:25 -0400 (Wed, 15 Oct 2025) EndedAt: 2025-10-15 15:12:28 -0400 (Wed, 15 Oct 2025) EllapsedTime: 3.1 seconds RetCode: 0 Status: OK