Package: bioDist Version: 1.80.0 Command: /home/biocbuild/bbs-3.21-bioc/R/bin/R CMD check --install=check:bioDist.install-out.txt --library=/home/biocbuild/bbs-3.21-bioc/R/site-library --timings bioDist_1.80.0.tar.gz StartedAt: 2025-10-15 21:13:11 -0400 (Wed, 15 Oct 2025) EndedAt: 2025-10-15 21:13:48 -0400 (Wed, 15 Oct 2025) EllapsedTime: 37.1 seconds RetCode: 0 Status: OK CheckDir: bioDist.Rcheck Warnings: 0