Package: bioCancer Version: 1.36.0 Command: /Library/Frameworks/R.framework/Resources/bin/R CMD check --install=check:bioCancer.install-out.txt --library=/Library/Frameworks/R.framework/Resources/library --no-vignettes --timings bioCancer_1.36.0.tar.gz StartedAt: 2025-10-14 00:35:00 -0400 (Tue, 14 Oct 2025) EndedAt: 2025-10-14 00:49:20 -0400 (Tue, 14 Oct 2025) EllapsedTime: 859.6 seconds RetCode: 0 Status: OK CheckDir: bioCancer.Rcheck Warnings: 0