Package: bioCancer Version: 1.36.0 Command: rm -rf bioCancer.buildbin-libdir && mkdir bioCancer.buildbin-libdir && /Users/biocbuild/BBS/utils/build-universal.sh bioCancer_1.36.0.tar.gz /Library/Frameworks/R.framework/Resources/bin/R bioCancer.buildbin-libdir StartedAt: 2025-10-14 12:54:42 -0400 (Tue, 14 Oct 2025) EndedAt: 2025-10-14 12:56:41 -0400 (Tue, 14 Oct 2025) EllapsedTime: 119.4 seconds RetCode: 0 Status: OK PackageFile: bioCancer_1.36.0.tgz PackageFileSize: 7.419 MiB