Package: bigmelon Version: 1.34.0 Command: rm -rf bigmelon.buildbin-libdir && mkdir bigmelon.buildbin-libdir && E:\biocbuild\bbs-3.21-bioc\R\bin\R.exe CMD INSTALL --build --library=bigmelon.buildbin-libdir bigmelon_1.34.0.tar.gz StartedAt: 2025-08-15 08:50:06 -0400 (Fri, 15 Aug 2025) EndedAt: 2025-08-15 08:51:52 -0400 (Fri, 15 Aug 2025) EllapsedTime: 106.7 seconds RetCode: 0 Status: OK PackageFile: bigmelon_1.34.0.zip PackageFileSize: 1.206 MiB