Package: bigmelon Version: 1.34.0 Command: /Library/Frameworks/R.framework/Resources/bin/R CMD INSTALL bigmelon StartedAt: 2025-10-13 16:53:24 -0400 (Mon, 13 Oct 2025) EndedAt: 2025-10-13 16:54:26 -0400 (Mon, 13 Oct 2025) EllapsedTime: 62.2 seconds RetCode: 0 Status: OK