Package: bgx Version: 1.74.0 Command: /home/biocbuild/bbs-3.21-bioc/R/bin/R CMD INSTALL bgx StartedAt: 2025-10-15 15:14:43 -0400 (Wed, 15 Oct 2025) EndedAt: 2025-10-15 15:15:08 -0400 (Wed, 15 Oct 2025) EllapsedTime: 24.9 seconds RetCode: 0 Status: OK