Package: bgx Version: 1.74.0 Command: /Library/Frameworks/R.framework/Resources/bin/R CMD INSTALL bgx StartedAt: 2025-10-13 15:27:58 -0400 (Mon, 13 Oct 2025) EndedAt: 2025-10-13 15:29:04 -0400 (Mon, 13 Oct 2025) EllapsedTime: 65.7 seconds RetCode: 0 Status: OK