Package: bgx Version: 1.74.0 Command: /Library/Frameworks/R.framework/Resources/bin/R CMD check --install=check:bgx.install-out.txt --library=/Library/Frameworks/R.framework/Resources/library --no-vignettes --timings bgx_1.74.0.tar.gz StartedAt: 2025-10-14 00:30:53 -0400 (Tue, 14 Oct 2025) EndedAt: 2025-10-14 00:34:33 -0400 (Tue, 14 Oct 2025) EllapsedTime: 219.4 seconds RetCode: 0 Status: WARNINGS CheckDir: bgx.Rcheck Warnings: 1