Package: bgx Version: 1.74.0 Command: rm -rf bgx.buildbin-libdir && mkdir bgx.buildbin-libdir && /Users/biocbuild/BBS/utils/build-universal.sh bgx_1.74.0.tar.gz /Library/Frameworks/R.framework/Resources/bin/R bgx.buildbin-libdir StartedAt: 2025-10-14 12:54:06 -0400 (Tue, 14 Oct 2025) EndedAt: 2025-10-14 12:55:20 -0400 (Tue, 14 Oct 2025) EllapsedTime: 73.5 seconds RetCode: 0 Status: OK PackageFile: bgx_1.74.0.tgz PackageFileSize: 401.2 KiB