Package: bgx Version: 1.74.0 Command: /Library/Frameworks/R.framework/Resources/bin/R CMD INSTALL bgx StartedAt: 2025-04-21 15:15:44 -0400 (Mon, 21 Apr 2025) EndedAt: 2025-04-21 15:16:37 -0400 (Mon, 21 Apr 2025) EllapsedTime: 52.8 seconds RetCode: 0 Status: OK