Package: bgx Version: 1.74.0 Command: /Library/Frameworks/R.framework/Resources/bin/R CMD build --keep-empty-dirs --no-resave-data bgx StartedAt: 2025-04-21 16:02:38 -0400 (Mon, 21 Apr 2025) EndedAt: 2025-04-21 16:03:56 -0400 (Mon, 21 Apr 2025) EllapsedTime: 77.8 seconds RetCode: 0 Status: OK PackageFile: bgx_1.74.0.tar.gz PackageFileSize: 2.619 MiB