Package: bettr Version: 1.4.0 Command: chmod a+r bettr -R && E:\biocbuild\bbs-3.21-bioc\R\bin\R.exe CMD build --keep-empty-dirs --no-resave-data bettr StartedAt: 2025-08-14 17:33:15 -0400 (Thu, 14 Aug 2025) EndedAt: 2025-08-14 17:34:29 -0400 (Thu, 14 Aug 2025) EllapsedTime: 74.7 seconds RetCode: 0 Status: OK PackageFile: bettr_1.4.0.tar.gz PackageFileSize: 2.363 MiB