Package: bettr Version: 1.4.0 Command: /Library/Frameworks/R.framework/Resources/bin/R CMD INSTALL bettr StartedAt: 2025-10-13 15:31:40 -0400 (Mon, 13 Oct 2025) EndedAt: 2025-10-13 15:32:40 -0400 (Mon, 13 Oct 2025) EllapsedTime: 59.4 seconds RetCode: 0 Status: OK