Package: bettr Version: 1.4.0 Command: /Library/Frameworks/R.framework/Resources/bin/R CMD build --keep-empty-dirs --no-resave-data bettr StartedAt: 2025-10-13 17:19:13 -0400 (Mon, 13 Oct 2025) EndedAt: 2025-10-13 17:20:57 -0400 (Mon, 13 Oct 2025) EllapsedTime: 104.1 seconds RetCode: 0 Status: OK PackageFile: bettr_1.4.0.tar.gz PackageFileSize: 2.584 MiB