Package: bettr Version: 1.4.0 Command: rm -rf bettr.buildbin-libdir && mkdir bettr.buildbin-libdir && /Users/biocbuild/BBS/utils/build-universal.sh bettr_1.4.0.tar.gz /Library/Frameworks/R.framework/Resources/bin/R bettr.buildbin-libdir StartedAt: 2025-04-22 00:34:49 -0400 (Tue, 22 Apr 2025) EndedAt: 2025-04-22 00:35:29 -0400 (Tue, 22 Apr 2025) EllapsedTime: 39.6 seconds RetCode: 0 Status: OK PackageFile: bettr_1.4.0.tgz PackageFileSize: 1.73 MiB