Package: bettr Version: 1.4.0 Command: /Library/Frameworks/R.framework/Resources/bin/R CMD INSTALL bettr StartedAt: 2025-10-13 16:04:56 -0400 (Mon, 13 Oct 2025) EndedAt: 2025-10-13 16:05:28 -0400 (Mon, 13 Oct 2025) EllapsedTime: 32.5 seconds RetCode: 0 Status: OK