Package: benchdamic Version: 1.14.3 Command: rm -rf benchdamic.buildbin-libdir && mkdir benchdamic.buildbin-libdir && E:\biocbuild\bbs-3.21-bioc\R\bin\R.exe CMD INSTALL --build --library=benchdamic.buildbin-libdir benchdamic_1.14.3.tar.gz StartedAt: 2025-08-15 08:49:36 -0400 (Fri, 15 Aug 2025) EndedAt: 2025-08-15 08:51:56 -0400 (Fri, 15 Aug 2025) EllapsedTime: 139.9 seconds RetCode: 0 Status: OK PackageFile: benchdamic_1.14.3.zip PackageFileSize: 2.309 MiB