Package: benchdamic Version: 1.14.0 Command: /Library/Frameworks/R.framework/Resources/bin/R CMD build --keep-empty-dirs --no-resave-data benchdamic StartedAt: 2025-04-21 16:01:55 -0400 (Mon, 21 Apr 2025) EndedAt: 2025-04-21 16:25:28 -0400 (Mon, 21 Apr 2025) EllapsedTime: 1413.3 seconds RetCode: 0 Status: OK PackageFile: benchdamic_1.14.0.tar.gz PackageFileSize: 5.456 MiB