Package: benchdamic Version: 1.14.0 Command: rm -rf benchdamic.buildbin-libdir && mkdir benchdamic.buildbin-libdir && /Users/biocbuild/BBS/utils/build-universal.sh benchdamic_1.14.0.tar.gz /Library/Frameworks/R.framework/Resources/bin/R benchdamic.buildbin-libdir StartedAt: 2025-04-22 00:34:46 -0400 (Tue, 22 Apr 2025) EndedAt: 2025-04-22 00:36:24 -0400 (Tue, 22 Apr 2025) EllapsedTime: 98.6 seconds RetCode: 0 Status: OK PackageFile: benchdamic_1.14.0.tgz PackageFileSize: 5.786 MiB