Package: benchdamic Version: 1.14.3 Command: /home/biocbuild/R/R/bin/R CMD INSTALL benchdamic StartedAt: 2025-09-29 20:45:37 -0000 (Mon, 29 Sep 2025) EndedAt: 2025-09-29 20:47:12 -0000 (Mon, 29 Sep 2025) EllapsedTime: 95.6 seconds RetCode: 0 Status: OK