Package: benchdamic Version: 1.14.3 Command: /home/biocbuild/R/R/bin/R CMD build --keep-empty-dirs --no-resave-data benchdamic StartedAt: 2025-09-29 22:57:36 -0000 (Mon, 29 Sep 2025) EndedAt: 2025-09-29 23:30:49 -0000 (Mon, 29 Sep 2025) EllapsedTime: 1993.5 seconds RetCode: 0 Status: OK PackageFile: benchdamic_1.14.3.tar.gz PackageFileSize: 5.255 MiB