Package: benchdamic Version: 1.14.4 Command: /Library/Frameworks/R.framework/Resources/bin/R CMD INSTALL benchdamic StartedAt: 2025-10-13 18:41:05 -0400 (Mon, 13 Oct 2025) EndedAt: 2025-10-13 18:42:25 -0400 (Mon, 13 Oct 2025) EllapsedTime: 80.2 seconds RetCode: 0 Status: OK