Package: benchdamic Version: 1.14.4 Command: /Library/Frameworks/R.framework/Resources/bin/R CMD build --keep-empty-dirs --no-resave-data benchdamic StartedAt: 2025-10-13 19:47:57 -0400 (Mon, 13 Oct 2025) EndedAt: 2025-10-13 20:11:39 -0400 (Mon, 13 Oct 2025) EllapsedTime: 1422.6 seconds RetCode: 0 Status: OK PackageFile: benchdamic_1.14.4.tar.gz PackageFileSize: 5.747 MiB