Package: beer Version: 1.12.0 Command: /home/biocbuild/bbs-3.21-bioc/R/bin/R CMD check --install=check:beer.install-out.txt --library=/home/biocbuild/bbs-3.21-bioc/R/site-library --timings beer_1.12.0.tar.gz StartedAt: 2025-10-15 21:05:42 -0400 (Wed, 15 Oct 2025) EndedAt: 2025-10-15 21:13:54 -0400 (Wed, 15 Oct 2025) EllapsedTime: 492.1 seconds RetCode: 0 Status: OK CheckDir: beer.Rcheck Warnings: 0