Package: bedbaser Version: 1.0.3 Command: E:\biocbuild\bbs-3.21-bioc\R\bin\R.exe CMD check --no-multiarch --install=check:bedbaser.install-out.txt --library=E:\biocbuild\bbs-3.21-bioc\R\library --no-vignettes --timings bedbaser_1.0.3.tar.gz StartedAt: 2025-08-12 00:06:11 -0400 (Tue, 12 Aug 2025) EndedAt: 2025-08-12 00:10:31 -0400 (Tue, 12 Aug 2025) EllapsedTime: 260.5 seconds RetCode: 0 Status: OK CheckDir: bedbaser.Rcheck Warnings: 0