Package: bedbaser Version: 1.0.4 Command: rm -rf bedbaser.buildbin-libdir && mkdir bedbaser.buildbin-libdir && /Users/biocbuild/BBS/utils/build-universal.sh bedbaser_1.0.4.tar.gz /Library/Frameworks/R.framework/Resources/bin/R bedbaser.buildbin-libdir StartedAt: 2025-10-14 12:53:40 -0400 (Tue, 14 Oct 2025) EndedAt: 2025-10-14 12:53:53 -0400 (Tue, 14 Oct 2025) EllapsedTime: 12.4 seconds RetCode: 0 Status: OK PackageFile: bedbaser_1.0.4.tgz PackageFileSize: 311.1 KiB