Package: beachmat Version: 2.24.0 Command: E:\biocbuild\bbs-3.21-bioc\R\bin\R.exe CMD check --no-multiarch --install=check:beachmat.install-out.txt --library=E:\biocbuild\bbs-3.21-bioc\R\library --no-vignettes --timings beachmat_2.24.0.tar.gz StartedAt: 2025-08-14 23:41:19 -0400 (Thu, 14 Aug 2025) EndedAt: 2025-08-14 23:49:49 -0400 (Thu, 14 Aug 2025) EllapsedTime: 509.9 seconds RetCode: 0 Status: WARNINGS CheckDir: beachmat.Rcheck Warnings: 1