Package: beachmat Version: 2.24.0 Command: /home/biocbuild/bbs-3.21-bioc/R/bin/R CMD check --install=check:beachmat.install-out.txt --library=/home/biocbuild/bbs-3.21-bioc/R/site-library --timings beachmat_2.24.0.tar.gz StartedAt: 2025-10-15 21:04:06 -0400 (Wed, 15 Oct 2025) EndedAt: 2025-10-15 21:10:03 -0400 (Wed, 15 Oct 2025) EllapsedTime: 356.5 seconds RetCode: 0 Status: WARNINGS CheckDir: beachmat.Rcheck Warnings: 1