Package: beachmat Version: 2.24.0 Command: /Library/Frameworks/R.framework/Resources/bin/R CMD check --install=check:beachmat.install-out.txt --library=/Library/Frameworks/R.framework/Resources/library --no-vignettes --timings beachmat_2.24.0.tar.gz StartedAt: 2025-04-21 19:13:29 -0400 (Mon, 21 Apr 2025) EndedAt: 2025-04-21 19:21:46 -0400 (Mon, 21 Apr 2025) EllapsedTime: 497.3 seconds RetCode: 0 Status: WARNINGS CheckDir: beachmat.Rcheck Warnings: 1