Package: beachmat Version: 2.24.0 Command: /home/biocbuild/R/R/bin/R CMD check --install=check:beachmat.install-out.txt --library=/home/biocbuild/R/R/site-library --no-vignettes --timings beachmat_2.24.0.tar.gz StartedAt: 2025-10-14 06:31:06 -0000 (Tue, 14 Oct 2025) EndedAt: 2025-10-14 06:39:17 -0000 (Tue, 14 Oct 2025) EllapsedTime: 490.6 seconds RetCode: 0 Status: WARNINGS CheckDir: beachmat.Rcheck Warnings: 1