Package: beachmat Version: 2.24.0 Command: /home/biocbuild/R/R/bin/R CMD build --keep-empty-dirs --no-resave-data beachmat StartedAt: 2025-10-13 22:54:06 -0000 (Mon, 13 Oct 2025) EndedAt: 2025-10-13 23:00:52 -0000 (Mon, 13 Oct 2025) EllapsedTime: 406.1 seconds RetCode: 0 Status: OK PackageFile: beachmat_2.24.0.tar.gz PackageFileSize: 436.2 KiB