Package: beachmat.tiledb Version: 1.0.0 Command: /Library/Frameworks/R.framework/Resources/bin/R CMD check --install=check:beachmat.tiledb.install-out.txt --library=/Library/Frameworks/R.framework/Resources/library --no-vignettes --timings beachmat.tiledb_1.0.0.tar.gz StartedAt: 2025-10-14 00:24:02 -0400 (Tue, 14 Oct 2025) EndedAt: 2025-10-14 00:29:11 -0400 (Tue, 14 Oct 2025) EllapsedTime: 309.3 seconds RetCode: 1 Status: ERROR CheckDir: beachmat.tiledb.Rcheck Warnings: NA