Package: beachmat.tiledb Version: 1.0.0 Command: /Library/Frameworks/R.framework/Resources/bin/R CMD build --keep-empty-dirs --no-resave-data beachmat.tiledb StartedAt: 2025-10-13 17:15:42 -0400 (Mon, 13 Oct 2025) EndedAt: 2025-10-13 17:20:01 -0400 (Mon, 13 Oct 2025) EllapsedTime: 258.1 seconds RetCode: 0 Status: OK PackageFile: beachmat.tiledb_1.0.0.tar.gz PackageFileSize: 321.9 KiB